BEGIN:VCALENDAR
VERSION:2.0
PRODID:-//IAF India - ECPv5.14.1//NONSGML v1.0//EN
CALSCALE:GREGORIAN
METHOD:PUBLISH
X-WR-CALNAME:IAF India
X-ORIGINAL-URL:https://iaf-india.org
X-WR-CALDESC:Events for IAF India
REFRESH-INTERVAL;VALUE=DURATION:PT1H
X-Robots-Tag:noindex
X-PUBLISHED-TTL:PT1H
BEGIN:VTIMEZONE
TZID:Asia/Kolkata
BEGIN:STANDARD
TZOFFSETFROM:+0530
TZOFFSETTO:+0530
TZNAME:IST
DTSTART:20220101T000000
END:STANDARD
END:VTIMEZONE
BEGIN:VEVENT
DTSTART;TZID=Asia/Kolkata:20230225T090000
DTEND;TZID=Asia/Kolkata:20230225T130000
DTSTAMP:20260425T103435
CREATED:20230212T064549Z
LAST-MODIFIED:20230212T091203Z
UID:4887-1677315600-1677330000@iaf-india.org
SUMMARY:Wabi Sabi
DESCRIPTION:IAF India – Mumbai Hub brings you a session to find the Beauty of Imperfection and Impermanence. Facilitator Anita Bandyopadhyay\, EF will take you on an experiential journey to find ‘Your whole self’ amongst your multiple selves through the power of self-reflection\, group wisdom and facilitative tools. \nRegister  
URL:https://iaf-india.org/event/wabi-sabi/
LOCATION:Mayor Hall\, Waterford Building\, 3037\, CD Barfiwala Road\, Zalawad Nagar Juhu Lane\, Yadav Nagar\, Andheri West\, Mumbai Urban\, Maharashtra\, 400058
ATTACH;FMTTYPE=image/png:https://iaf-india.org/wp-content/uploads/2023/02/IAF-India-Events.png
END:VEVENT
BEGIN:VEVENT
DTSTART;TZID=Asia/Kolkata:20230223T183000
DTEND;TZID=Asia/Kolkata:20230223T200000
DTSTAMP:20260425T103435
CREATED:20230222T093545Z
LAST-MODIFIED:20230222T094330Z
UID:4907-1677177000-1677182400@iaf-india.org
SUMMARY:Chai pe Charcha
DESCRIPTION:IAF India – Hyderabad Hub invites you to an unstructured conversation. Be it over Chai or Kafi beans\, let’s meet and greet and get to know each other better. This agenda-less meeting will help us set the agenda for the rest of the year. \nRegister  
URL:https://iaf-india.org/event/chai-pe-charcha/
LOCATION:Kalakriti Art Gallery\, Plot 8-2-465\, 1\, Street No. 4\, Green Valley\, Banjara Hills\, Hyderabad\, Telangana\, 500034\, India
ATTACH;FMTTYPE=image/png:https://iaf-india.org/wp-content/uploads/2023/02/Hyderabad-23-Feb-2023.png
END:VEVENT
BEGIN:VEVENT
DTSTART;TZID=Asia/Kolkata:20230218T153000
DTEND;TZID=Asia/Kolkata:20230218T183000
DTSTAMP:20260425T103435
CREATED:20230102T151231Z
LAST-MODIFIED:20230202T181132Z
UID:4758-1676734200-1676745000@iaf-india.org
SUMMARY:Creative Problem Solving
DESCRIPTION:Do join the monthly meet of IAF Chennai Hub as Ramesh Srinivasan and Chamundeswari Venkat facilitate the session on the usage of meta cards in problem solving. \nRegister  
URL:https://iaf-india.org/event/creative-problem-solving/
LOCATION:The Presidency Club\, Egmore\, Chennai\, Tamil Nadu\, 600008\, India
ATTACH;FMTTYPE=image/png:https://iaf-india.org/wp-content/uploads/2023/01/Copy-of-IAF-India-Events.png
END:VEVENT
BEGIN:VEVENT
DTSTART;TZID=Asia/Kolkata:20230218T093000
DTEND;TZID=Asia/Kolkata:20230218T130000
DTSTAMP:20260425T103435
CREATED:20230212T022125Z
LAST-MODIFIED:20230212T025427Z
UID:4878-1676712600-1676725200@iaf-india.org
SUMMARY:Get Creative with IMPROV
DESCRIPTION:Join us to experience the magic of IMPROV. Join IAF India – Bengaluru Hub to develop an appreciation of Improv as a tool for unlocking creative potential of a group. \nRegister  
URL:https://iaf-india.org/event/get-creative-with-improv/
LOCATION:IndiQube Golf View\, Ammanamma Layout\, Rustam Bagh Layout\,\, Bengaluru\, Karnataka\, 560017
ATTACH;FMTTYPE=image/png:https://iaf-india.org/wp-content/uploads/2023/02/CBEJAN23.png
END:VEVENT
BEGIN:VEVENT
DTSTART;TZID=Asia/Kolkata:20230211T090000
DTEND;TZID=Asia/Kolkata:20230211T180000
DTSTAMP:20260425T103435
CREATED:20230129T134047Z
LAST-MODIFIED:20230129T141501Z
UID:4848-1676106000-1676138400@iaf-india.org
SUMMARY:COMMUNITY FACILITATION AMIDST STRAWBERRY FARMS
DESCRIPTION:Join IAF Pune Hub for a exclusive session with two objectives of outreach and outbound session amidst the natural surroundings of strawberry farms at Wai\, Maharashtra.  \nRegister  
URL:https://iaf-india.org/event/community-facilitation-amidst-strawberry-farms/
LOCATION:Delhi
ATTACH;FMTTYPE=image/jpeg:https://iaf-india.org/wp-content/uploads/2023/01/WhatsApp-Image-2023-01-29-at-11.36.34.jpeg
END:VEVENT
BEGIN:VEVENT
DTSTART;TZID=Asia/Kolkata:20230205T143000
DTEND;TZID=Asia/Kolkata:20230205T170000
DTSTAMP:20260425T103435
CREATED:20230127T115807Z
LAST-MODIFIED:20230127T120203Z
UID:4841-1675607400-1675616400@iaf-india.org
SUMMARY:Being of a Facilitator
DESCRIPTION:Welcome to this IAF India organised session\, in the series “Journey to the Being of a Facilitator”. Going beyond competencies\, methods\, processes\, tools to BEING A Facilitator”. \nRegister
URL:https://iaf-india.org/event/being-of-a-facilitator/
LOCATION:Delhi
ATTACH;FMTTYPE=image/png:https://iaf-india.org/wp-content/uploads/2023/01/Journey-towards-CPF_24042022-2.png
END:VEVENT
BEGIN:VEVENT
DTSTART;TZID=Asia/Kolkata:20230130T180000
DTEND;TZID=Asia/Kolkata:20230130T200000
DTSTAMP:20260425T103435
CREATED:20230114T175617Z
LAST-MODIFIED:20230114T180034Z
UID:4803-1675101600-1675108800@iaf-india.org
SUMMARY:THE LEARNING "STICK"
DESCRIPTION:Explore virtually with IAF India – Pune Hub\, how to encourage learner’s to actively practice new things they learn and discover new ways to optimise impact of learning. \nRegister  
URL:https://iaf-india.org/event/the-learning-stick/
LOCATION:Delhi
ATTACH;FMTTYPE=image/png:https://iaf-india.org/wp-content/uploads/2023/01/Pune-30-Jan-2023-1.png
END:VEVENT
BEGIN:VEVENT
DTSTART;TZID=Asia/Kolkata:20230127T183000
DTEND;TZID=Asia/Kolkata:20230127T193000
DTSTAMP:20260425T103435
CREATED:20230117T070722Z
LAST-MODIFIED:20230117T091400Z
UID:4809-1674844200-1674847800@iaf-india.org
SUMMARY:What's up!
DESCRIPTION:IAF India – Mumbai Hub brings to you a meaningful and focused Whatsappinar to help jointly pave the way forward for desired learning in 2023. (Exclusively for Mumbai Hub Members and Non Members) \nRegister
URL:https://iaf-india.org/event/whats-up/
LOCATION:Delhi
ATTACH;FMTTYPE=image/jpeg:https://iaf-india.org/wp-content/uploads/2023/01/WhatsApp-Image-2023-01-12-at-13.09.51.jpg
END:VEVENT
BEGIN:VEVENT
DTSTART;TZID=Asia/Kolkata:20230121T093000
DTEND;TZID=Asia/Kolkata:20230121T130000
DTSTAMP:20260425T103435
CREATED:20230108T021519Z
LAST-MODIFIED:20230108T022839Z
UID:4775-1674293400-1674306000@iaf-india.org
SUMMARY:Design Your Way
DESCRIPTION:IAF India – Bangalore Hub  invites you to an engaging session to enhance your Session design capabilities to next level through use the Flow Game\, IAF Competencies and Group Works cards as containers for this exploration. \nRegister  
URL:https://iaf-india.org/event/design-your-way/
LOCATION:Bangalore
ATTACH;FMTTYPE=image/png:https://iaf-india.org/wp-content/uploads/2023/01/CBEJAN23.png
END:VEVENT
BEGIN:VEVENT
DTSTART;TZID=Asia/Kolkata:20230108T143000
DTEND;TZID=Asia/Kolkata:20230108T173000
DTSTAMP:20260425T103435
CREATED:20221230T115227Z
LAST-MODIFIED:20221230T115730Z
UID:4737-1673188200-1673199000@iaf-india.org
SUMMARY:RECAP OF ALL IAF COMPETENCIES
DESCRIPTION:Welcome to this IAF India organised session\, in the series “Journey to the Being of a Facilitator” led by Vinay Kumar\, CPF. \nRegister
URL:https://iaf-india.org/event/recap-of-all-iaf-competencies/
LOCATION:Delhi
ATTACH;FMTTYPE=image/png:https://iaf-india.org/wp-content/uploads/2022/12/Journey-towards-CPF_08012023.png
END:VEVENT
BEGIN:VEVENT
DTSTART;TZID=Asia/Kolkata:20230104T183000
DTEND;TZID=Asia/Kolkata:20230104T200000
DTSTAMP:20260425T103435
CREATED:20221231T193652Z
LAST-MODIFIED:20230101T073637Z
UID:4744-1672857000-1672862400@iaf-india.org
SUMMARY:CONFERENCE CONVERSATIONS
DESCRIPTION:As promised\, IAF India – Bengaluru hub brings to you Conference Conversations  with facilitators in Open space technology format 😎 \nRegister
URL:https://iaf-india.org/event/conference-conversations/
LOCATION:Delhi
ATTACH;FMTTYPE=image/png:https://iaf-india.org/wp-content/uploads/2022/12/IAF-India-Events.png
END:VEVENT
BEGIN:VEVENT
DTSTART;TZID=Asia/Kolkata:20221127T143000
DTEND;TZID=Asia/Kolkata:20221127T173000
DTSTAMP:20260425T103435
CREATED:20221118T045911Z
LAST-MODIFIED:20221118T052241Z
UID:4726-1669559400-1669570200@iaf-india.org
SUMMARY:Model Positive Professional Attitude as a Process Facilitator
DESCRIPTION:Welcome to this IAF India organised session\, to listen to the experience sharing and discovering this competency for yourself. \nRegister
URL:https://iaf-india.org/event/model-positive-professional-attitude-as-a-process-facilitator/
LOCATION:Delhi
ATTACH;FMTTYPE=image/png:https://iaf-india.org/wp-content/uploads/2022/11/IAF-India-Events-1.png
END:VEVENT
BEGIN:VEVENT
DTSTART;TZID=Asia/Kolkata:20221119T100000
DTEND;TZID=Asia/Kolkata:20221119T130000
DTSTAMP:20260425T103435
CREATED:20221113T094300Z
LAST-MODIFIED:20221113T095305Z
UID:4715-1668852000-1668862800@iaf-india.org
SUMMARY:Breathe Easy
DESCRIPTION:IAF India – Hyderabad Hub invites you to an engaging session on LABELS. The session will inspire participants to appreciate the nature of labels and find ways to overcome them. \nRegister
URL:https://iaf-india.org/event/breathe-easy/
LOCATION:Spring Board\, 91 SpringBoard\, Hitech City\, Hyderabad\, Andra Pradesh\, India
ATTACH;FMTTYPE=image/png:https://iaf-india.org/wp-content/uploads/2022/11/IAF-India-Events.png
END:VEVENT
BEGIN:VEVENT
DTSTART;TZID=Asia/Kolkata:20221030T143000
DTEND;TZID=Asia/Kolkata:20221030T173000
DTSTAMP:20260425T103435
CREATED:20221021T042032Z
LAST-MODIFIED:20221021T044610Z
UID:4697-1667140200-1667151000@iaf-india.org
SUMMARY:Build and Maintain Professional Knowledge
DESCRIPTION:Join this session organised by IAF India to explore how to Build and Maintain Professional Knowledge through facilitated story-telling. \nRegister
URL:https://iaf-india.org/event/build-and-maintain-professional-knowledge/
LOCATION:Delhi
ATTACH;FMTTYPE=image/png:https://iaf-india.org/wp-content/uploads/2022/10/IAF-India-Events-1.png
END:VEVENT
BEGIN:VEVENT
DTSTART;TZID=Asia/Kolkata:20221015T093000
DTEND;TZID=Asia/Kolkata:20221015T133000
DTSTAMP:20260425T103435
CREATED:20221113T094256Z
LAST-MODIFIED:20221113T094256Z
UID:4714-1665826200-1665840600@iaf-india.org
SUMMARY:Awakening the Arjuna Within Copy
DESCRIPTION:Please join us in this participative workshop by the International Association of Facilitators (IAF) India- Chennai Hub to experience the art and skill of Group Process Facilitation by our Facilitator Mr.V.Narasimhan\, EF. \nRegister
URL:https://iaf-india.org/event/awakening-the-arjuna-within-copy/
LOCATION:Chetinaad courtyard\, Bharathiyar Road GandhiPuram\, Coimbatore\, Tamil Nadu
ATTACH;FMTTYPE=image/png:https://iaf-india.org/wp-content/uploads/2022/09/IAF-India-Events-1.png
END:VEVENT
BEGIN:VEVENT
DTSTART;TZID=Asia/Kolkata:20221008T103000
DTEND;TZID=Asia/Kolkata:20221008T123000
DTSTAMP:20260425T103435
CREATED:20221001T052716Z
LAST-MODIFIED:20221001T053747Z
UID:4688-1665225000-1665232200@iaf-india.org
SUMMARY:The World Café
DESCRIPTION:Join IAF India – Hyderbad Hub as facilitators Sudheer Nyathani & Raghavender Yadgirkar takes us through the facilitative methodology of World Café.  \nRegister
URL:https://iaf-india.org/event/the-world-cafe/
LOCATION:Aurora’s Business School\, Punjagutta Market\, Punjagutta\, Hyderabad\, Andhra Pradesh\, India
ATTACH;FMTTYPE=image/png:https://iaf-india.org/wp-content/uploads/2022/10/IAF-India-Events.png
END:VEVENT
BEGIN:VEVENT
DTSTART;TZID=Asia/Kolkata:20221001T160000
DTEND;TZID=Asia/Kolkata:20221001T180000
DTSTAMP:20260425T103435
CREATED:20220927T044004Z
LAST-MODIFIED:20220927T044538Z
UID:4678-1664640000-1664647200@iaf-india.org
SUMMARY:Explore IAF Methods Library
DESCRIPTION:Unique opportunity by IAF India – Delhi Hub to ‘Ace’ your practice with best in class facilitation methods – tools\, techniques that give you an edge in facilitation! \nRegister
URL:https://iaf-india.org/event/explore-iaf-methods-library/
LOCATION:Delhi
ATTACH;FMTTYPE=image/png:https://iaf-india.org/wp-content/uploads/2022/09/IAF-India-Events.png
END:VEVENT
BEGIN:VEVENT
DTSTART;TZID=Asia/Kolkata:20220925T143000
DTEND;TZID=Asia/Kolkata:20220925T173000
DTSTAMP:20260425T103435
CREATED:20220918T130145Z
LAST-MODIFIED:20220918T130937Z
UID:4659-1664116200-1664127000@iaf-india.org
SUMMARY:Guide Group to Appropriate and Useful Outcomes
DESCRIPTION:Please join IAF India to experience the 5th Session of the IAF series : “Journey to the Being of a Facilitator” Part 5 : Guide Group to Appropriate and Useful Outcomes. \nRegister
URL:https://iaf-india.org/event/guide-group-to-appropriate-and-useful-outcomes/
LOCATION:Delhi
ATTACH;FMTTYPE=image/jpeg:https://iaf-india.org/wp-content/uploads/2022/09/WhatsApp-Image-2022-09-16-at-11.41.08-PM.jpeg
END:VEVENT
BEGIN:VEVENT
DTSTART;TZID=Asia/Kolkata:20220917T100000
DTEND;TZID=Asia/Kolkata:20220917T123000
DTSTAMP:20260425T103435
CREATED:20220913T154325Z
LAST-MODIFIED:20220913T155224Z
UID:4651-1663408800-1663417800@iaf-india.org
SUMMARY:Challenge for SELF
DESCRIPTION:A session by IAF India Bengaluru Hub\, that will explore where Facilitators get in their own way . Journey will also go deeper in how to recognise as well as manage their own signs of bias & internal conflict. \nRegister
URL:https://iaf-india.org/event/challenge-for-self/
LOCATION:Hotel Southern Star\, Lavelle road\, Bengaluru\, Maharashtra\, India
ATTACH;FMTTYPE=image/jpeg:https://iaf-india.org/wp-content/uploads/2022/09/WhatsApp-Image-2022-09-13-at-8.38.02-PM.jpeg
END:VEVENT
BEGIN:VEVENT
DTSTART;TZID=Asia/Kolkata:20220917T090000
DTEND;TZID=Asia/Kolkata:20220917T170000
DTSTAMP:20260425T103435
CREATED:20220823T152809Z
LAST-MODIFIED:20220905T141927Z
UID:4614-1663405200-1663434000@iaf-india.org
SUMMARY:Get Set and Go
DESCRIPTION:Join in for the double bonanza of learning from IAF India – Mumbai Hub through 3D (Design\, Develop and Deliver) facilitation practice session by Nidhi S. and learning session on Barehanded Facilitation by Ganesh Dalvi\, CPF in our next in person event. \nRegister
URL:https://iaf-india.org/event/get-set-and-go/
LOCATION:Canossa Convent Ashram\, 4VG8+566\, Mahakali Caves Rd\, Subhash Nagar\, Andheri East\,\, Mumbai\, Maharashtra\, 400093
ATTACH;FMTTYPE=image/png:https://iaf-india.org/wp-content/uploads/2022/08/Mumbai_17092022.png
END:VEVENT
BEGIN:VEVENT
DTSTART;TZID=Asia/Kolkata:20220828T100000
DTEND;TZID=Asia/Kolkata:20220828T130000
DTSTAMP:20260425T103435
CREATED:20220812T144150Z
LAST-MODIFIED:20220813T070335Z
UID:4597-1661680800-1661691600@iaf-india.org
SUMMARY:Create and Sustain a Participatory Environment
DESCRIPTION:Join IAF India for the 4th learning session of the series “Journey to the Being of a Facilitator” and explore Competency C : Create and Sustain a Participatory Environment. \nRegister
URL:https://iaf-india.org/event/create-and-sustain-a-participatory-environment/
LOCATION:Delhi
ATTACH;FMTTYPE=image/png:https://iaf-india.org/wp-content/uploads/2022/08/IAF-India-Events_13082-22.png
END:VEVENT
BEGIN:VEVENT
DTSTART;TZID=Asia/Kolkata:20220827T093000
DTEND;TZID=Asia/Kolkata:20220827T143000
DTSTAMP:20260425T103435
CREATED:20220730T073349Z
LAST-MODIFIED:20220730T074011Z
UID:4584-1661592600-1661610600@iaf-india.org
SUMMARY:Crafting your Leadership Persona
DESCRIPTION:Please Join us in this participative workshop by International Association of Facilitators India – Chennai Hub to explore the objectives and experience the expected outcomes using the art of Group process facilitation Skill. \nRegister
URL:https://iaf-india.org/event/crafting-your-leadership-persona/
LOCATION:ND Hall\, II Floor\, SIEMA Building\, 8/4\, Race Course\,\, Coimbatore\, Tamil Nadu\, 641018\, India
ATTACH;FMTTYPE=image/png:https://iaf-india.org/wp-content/uploads/2022/07/Coimbatore_26072022.png
END:VEVENT
BEGIN:VEVENT
DTSTART;TZID=Asia/Kolkata:20220820T100000
DTEND;TZID=Asia/Kolkata:20220820T130000
DTSTAMP:20260425T103435
CREATED:20220815T071641Z
LAST-MODIFIED:20220815T074400Z
UID:4605-1660989600-1661000400@iaf-india.org
SUMMARY:Reframe for Success
DESCRIPTION:Use concepts from NLP (Neuro-Linguistic-Programming) to create greater awareness of the limiting beliefs we carry as facilitators; use reframing techniques to challenge our thinking patterns to be more resourceful as a facilitator with IAF India – Bengaluru Hub. \nRegister
URL:https://iaf-india.org/event/reframe-for-success/
LOCATION:Ashirvad\, St Marks Rd\, Near SBI ATM\,  Bengaluru
ATTACH;FMTTYPE=image/png:https://iaf-india.org/wp-content/uploads/2022/08/IAF-India-Events.png
END:VEVENT
BEGIN:VEVENT
DTSTART;TZID=Asia/Kolkata:20220806T090000
DTEND;TZID=Asia/Kolkata:20220806T173000
DTSTAMP:20260425T103435
CREATED:20220714T034001Z
LAST-MODIFIED:20220714T063450Z
UID:4548-1659776400-1659807000@iaf-india.org
SUMMARY:Sorting Reality through Fiction
DESCRIPTION:Join Arvind Murwaha and IAF India Mumbai hub in creative exploration of how to get solutions to real life team performance issues. \nRegister
URL:https://iaf-india.org/event/sorting-reality-through-fiction/
LOCATION:Atma Darshan Centre\, Mahakali Caves Road\, Subhash Nagar\, Andheri East\,\, Mumbai\, Maharashtra\, 400093
ATTACH;FMTTYPE=image/png:https://iaf-india.org/wp-content/uploads/2022/07/IAF-India-Events-1-1.png
END:VEVENT
BEGIN:VEVENT
DTSTART;TZID=Asia/Kolkata:20220730T100000
DTEND;TZID=Asia/Kolkata:20220730T123000
DTSTAMP:20260425T103435
CREATED:20220727T082153Z
LAST-MODIFIED:20220727T091741Z
UID:4576-1659175200-1659184200@iaf-india.org
SUMMARY:Stakeholder Conversations
DESCRIPTION:IAF India – Hyderabad Hub invites you on a journey facilitated by Jawad Ahmed to explore “Stakeholder Conversations – Big Picture Diagnostics”. \nRegister
URL:https://iaf-india.org/event/stakeholder-conversations/
LOCATION:Dallas Center\,\, 2nd Floor\, 83/1\, Plot-A1 Dallas Center\, Knowledge City Rd\, Rai Durg\, Besides T Hub & Madhapur Traffic Police Station\, Hyderabad\, Andra Pradesh\, 500081\, India
ATTACH;FMTTYPE=image/png:https://iaf-india.org/wp-content/uploads/2022/07/IAF-India-Events.png
END:VEVENT
BEGIN:VEVENT
DTSTART;TZID=Asia/Kolkata:20220724T143000
DTEND;TZID=Asia/Kolkata:20220724T173000
DTSTAMP:20260425T103435
CREATED:20220714T041053Z
LAST-MODIFIED:20220717T073521Z
UID:4557-1658673000-1658683800@iaf-india.org
SUMMARY:Plan Appropriate Group Processes
DESCRIPTION:Join IAF India for the 3rd learning session of the series “Journey to the Being of a Facilitator” and explore the ways to Plan Appropriate Group Processes. \nRegister
URL:https://iaf-india.org/event/plan-appropriate-group-processes/
LOCATION:Delhi
ATTACH;FMTTYPE=image/png:https://iaf-india.org/wp-content/uploads/2022/07/IAF-India-Events-2.png
END:VEVENT
BEGIN:VEVENT
DTSTART;TZID=Asia/Kolkata:20220709T090000
DTEND;TZID=Asia/Kolkata:20220709T170000
DTSTAMP:20260425T103435
CREATED:20220625T122854Z
LAST-MODIFIED:20220625T165802Z
UID:4538-1657357200-1657386000@iaf-india.org
SUMMARY:ASTITVA - Identity
DESCRIPTION:Join IAF India – Mumbai Hub in this journey of self discovery\, explore your purpose\, seek answers.. ask questions.. have dialogue with self & peers.. \nRegister
URL:https://iaf-india.org/event/astitva-identity/
LOCATION:Atma Darshan Centre\, Mahakali Caves Road\, Subhash Nagar\, Andheri East\,\, Mumbai\, Maharashtra\, 400093
ATTACH;FMTTYPE=image/png:https://iaf-india.org/wp-content/uploads/2022/06/Mumbai_09072022.png
END:VEVENT
BEGIN:VEVENT
DTSTART;TZID=Asia/Kolkata:20220626T143000
DTEND;TZID=Asia/Kolkata:20220626T173000
DTSTAMP:20260425T103435
CREATED:20220618T113919Z
LAST-MODIFIED:20220618T115645Z
UID:4524-1656253800-1656264600@iaf-india.org
SUMMARY:Creating Collaborative  Client Relationships
DESCRIPTION:Join IAF India for the 2nd learning session of the IAF Competency series and learn the ways to create collaborative Client Relationships. Let us better understand the meaning and method of the IAF Competency A in our facilitation. \nRegister
URL:https://iaf-india.org/event/creating-collaborative-client-relationships/
LOCATION:Delhi
ATTACH;FMTTYPE=image/png:https://iaf-india.org/wp-content/uploads/2022/06/IAF-India-Events-4.png
END:VEVENT
BEGIN:VEVENT
DTSTART;TZID=Asia/Kolkata:20220625T093000
DTEND;TZID=Asia/Kolkata:20220625T140000
DTSTAMP:20260425T103435
CREATED:20220610T141625Z
LAST-MODIFIED:20220610T142231Z
UID:4512-1656149400-1656165600@iaf-india.org
SUMMARY:EXPERIENCE & LEARN GROUP PROCESS FACILITATION
DESCRIPTION:Group Process Facilitation is a rapidly expanding worldwide profession that plays a vital role in the workings of Education\, Business\, Government and Communities across the globe. International Association of Facilitators\, India – Chennai Hub is inviting you to our first Face to Face session. \nRegister
URL:https://iaf-india.org/event/experience-learn-group-process-facilitation/
LOCATION:ND Hall\, II Floor\, SIEMA Building\, 8/4\, Race Course\,\, Coimbatore\, Tamil Nadu\, 641018\, India
ATTACH;FMTTYPE=image/png:https://iaf-india.org/wp-content/uploads/2022/06/IAF-India-Events-3.png
END:VEVENT
BEGIN:VEVENT
DTSTART;TZID=Asia/Kolkata:20220618T170000
DTEND;TZID=Asia/Kolkata:20220618T200000
DTSTAMP:20260425T103435
CREATED:20220606T042129Z
LAST-MODIFIED:20220606T064815Z
UID:4481-1655571600-1655582400@iaf-india.org
SUMMARY:Fire in the Mountain
DESCRIPTION:This learning event by IAF India\, Pune Hub is designed for you to discover the reactions and responses of being in difficult and challenging situations. \nRegister
URL:https://iaf-india.org/event/fire-in-the-mountain/
LOCATION:Starthub Cowork Space\, 2nd floor\, Jewel Square Mall\, Next to St. Laurn Hotel\, Koregaon Park\, Pune\, Maharashtra
ATTACH;FMTTYPE=image/png:https://iaf-india.org/wp-content/uploads/2022/06/IAF-India-Events-1.png
END:VEVENT
END:VCALENDAR